BEGIN:VCALENDAR
VERSION:2.0
PRODID:-//Centro Ananda - ECPv6.15.13//NONSGML v1.0//EN
CALSCALE:GREGORIAN
METHOD:PUBLISH
X-ORIGINAL-URL:https://anandayogavitoria.com
X-WR-CALDESC:Eventos para Centro Ananda
REFRESH-INTERVAL;VALUE=DURATION:PT1H
X-Robots-Tag:noindex
X-PUBLISHED-TTL:PT1H
BEGIN:VTIMEZONE
TZID:UTC
BEGIN:STANDARD
TZOFFSETFROM:+0000
TZOFFSETTO:+0000
TZNAME:UTC
DTSTART:20260101T000000
END:STANDARD
END:VTIMEZONE
BEGIN:VTIMEZONE
TZID:Europe/Madrid
BEGIN:DAYLIGHT
TZOFFSETFROM:+0100
TZOFFSETTO:+0200
TZNAME:CEST
DTSTART:20260329T010000
END:DAYLIGHT
BEGIN:STANDARD
TZOFFSETFROM:+0200
TZOFFSETTO:+0100
TZNAME:CET
DTSTART:20261025T010000
END:STANDARD
BEGIN:DAYLIGHT
TZOFFSETFROM:+0100
TZOFFSETTO:+0200
TZNAME:CEST
DTSTART:20270328T010000
END:DAYLIGHT
BEGIN:STANDARD
TZOFFSETFROM:+0200
TZOFFSETTO:+0100
TZNAME:CET
DTSTART:20271031T010000
END:STANDARD
BEGIN:DAYLIGHT
TZOFFSETFROM:+0100
TZOFFSETTO:+0200
TZNAME:CEST
DTSTART:20280326T010000
END:DAYLIGHT
BEGIN:STANDARD
TZOFFSETFROM:+0200
TZOFFSETTO:+0100
TZNAME:CET
DTSTART:20281029T010000
END:STANDARD
BEGIN:DAYLIGHT
TZOFFSETFROM:+0100
TZOFFSETTO:+0200
TZNAME:CEST
DTSTART:20290325T010000
END:DAYLIGHT
BEGIN:STANDARD
TZOFFSETFROM:+0200
TZOFFSETTO:+0100
TZNAME:CET
DTSTART:20291028T010000
END:STANDARD
END:VTIMEZONE
BEGIN:VEVENT
DTSTART;VALUE=DATE:20270901
DTEND;VALUE=DATE:20280801
DTSTAMP:20260423T234732
CREATED:20240830T120138Z
LAST-MODIFIED:20250828T075202Z
UID:5272-1819756800-1848700799@anandayogavitoria.com
SUMMARY:Biodanza
DESCRIPTION:Coaching de crecimiento personal				\n				\n				\n				\n					\n\n	\n	\n		\n\n\n		\n		\n			\n		\n					\n				\n					\n		\n					\n		\n				\n						\n					\n			\n						\n				\n					Un espacio de transformación a través de la escucha y la acciónSi te sientes estancada y necesitas un cambio emprende este camino de transformación personal. No es magia\, es disciplina\, es conocer y despertar tus potenciales. No necesitas gurús\, sino escucharte y actuar.				\n				\n				\n						\n					\n			\n						\n				\n																														\n				\n					\n		\n				\n			\n						\n				\n																														\n				\n					\n		\n					\n		\n					\n		\n				\n			\n						\n						\n					\n			\n						\n				\n					Fechas				\n				\n				\n				\n									Domingo completo: 5 oct\, 9 nov\, 14 dic\, 11 enero\, 8 febrero\, 8 marzo\,10 mayo y  7 junio.  								\n				\n				\n				\n							\n			\n		\n						\n				\n				\n				\n					Contacto				\n				\n				\n				\n									Miren: 639890377   Fernando: 609339518 								\n				\n				\n				\n									Web Escuela Felicidad Consciente  								\n				\n					\n		\n					\n		\n				\n				\n							\n			\n		\n						\n				\n				\n							\n							\n					\n			\n						\n				\n					Actividades Relacionadas\n				\n				\n				\n				\n					Categoría del Evento: ClasesYoga y MindfulnessUn camino hacia el bienestar.\nSalud serenidad y dicha interna \n  Trainer : Arantxa Sabando
URL:https://anandayogavitoria.com/clase/biodanza/
LOCATION:Jasmin
CATEGORIES:Talleres
ATTACH;FMTTYPE=image/jpeg:https://anandayogavitoria.com/wp-content/uploads/2024/07/Biodanza-1.jpg
END:VEVENT
BEGIN:VEVENT
DTSTART;VALUE=DATE:20270901
DTEND;VALUE=DATE:20280801
DTSTAMP:20260423T234732
CREATED:20250724T125611Z
LAST-MODIFIED:20260105T083348Z
UID:8032-1819756800-1848700799@anandayogavitoria.com
SUMMARY:Kirtan
DESCRIPTION:Coaching de crecimiento personal				\n				\n				\n				\n					\n\n	\n	\n		\n\n\n		\n		\n			\n		\n					\n				\n					\n		\n					\n		\n				\n						\n					\n			\n						\n				\n					Un espacio de transformación a través de la escucha y la acciónSi te sientes estancada y necesitas un cambio emprende este camino de transformación personal. No es magia\, es disciplina\, es conocer y despertar tus potenciales. No necesitas gurús\, sino escucharte y actuar.				\n				\n				\n						\n					\n			\n						\n				\n																														\n				\n					\n		\n				\n			\n						\n				\n																														\n				\n					\n		\n					\n		\n					\n		\n				\n			\n						\n						\n					\n			\n						\n				\n					Fechas				\n				\n				\n				\n									Domingo completo: 5 oct\, 9 nov\, 14 dic\, 11 enero\, 8 febrero\, 8 marzo\,10 mayo y  7 junio.  								\n				\n				\n				\n							\n			\n		\n						\n				\n				\n				\n					Contacto				\n				\n				\n				\n									Miren: 639890377   Fernando: 609339518 								\n				\n				\n				\n									Web Escuela Felicidad Consciente  								\n				\n					\n		\n					\n		\n				\n				\n							\n			\n		\n						\n				\n				\n							\n							\n					\n			\n						\n				\n					Actividades Relacionadas\n				\n				\n				\n				\n					Categoría del Evento: ClasesYoga y MindfulnessUn camino hacia el bienestar.\nSalud serenidad y dicha interna \n  Trainer : Arantxa Sabando
URL:https://anandayogavitoria.com/clase/kirtan/
LOCATION:Jasmin
CATEGORIES:Talleres
ATTACH;FMTTYPE=image/jpeg:https://anandayogavitoria.com/wp-content/uploads/2024/07/Meditacion-y-mantras.jpg
END:VEVENT
BEGIN:VEVENT
DTSTART;VALUE=DATE:20270901
DTEND;VALUE=DATE:20280801
DTSTAMP:20260423T234732
CREATED:20250828T070039Z
LAST-MODIFIED:20260105T084451Z
UID:8192-1819756800-1848700799@anandayogavitoria.com
SUMMARY:Coaching de crecimiento personal
DESCRIPTION:Coaching de crecimiento personal				\n				\n				\n				\n					\n\n	\n	\n		\n\n\n		\n		\n			\n		\n					\n				\n					\n		\n					\n		\n				\n						\n					\n			\n						\n				\n					Un espacio de transformación a través de la escucha y la acciónSi te sientes estancada y necesitas un cambio emprende este camino de transformación personal. No es magia\, es disciplina\, es conocer y despertar tus potenciales. No necesitas gurús\, sino escucharte y actuar.				\n				\n				\n						\n					\n			\n						\n				\n																														\n				\n					\n		\n				\n			\n						\n				\n																														\n				\n					\n		\n					\n		\n					\n		\n				\n			\n						\n						\n					\n			\n						\n				\n					Fechas				\n				\n				\n				\n									Domingo completo: 5 oct\, 9 nov\, 14 dic\, 11 enero\, 8 febrero\, 8 marzo\,10 mayo y  7 junio.  								\n				\n				\n				\n							\n			\n		\n						\n				\n				\n				\n					Contacto				\n				\n				\n				\n									Miren: 639890377   Fernando: 609339518 								\n				\n				\n				\n									Web Escuela Felicidad Consciente  								\n				\n					\n		\n					\n		\n				\n				\n							\n			\n		\n						\n				\n				\n							\n							\n					\n			\n						\n				\n					Actividades Relacionadas\n				\n				\n				\n				\n					Categoría del Evento: ClasesYoga y MindfulnessUn camino hacia el bienestar.\nSalud serenidad y dicha interna \n  Trainer : Arantxa Sabando
URL:https://anandayogavitoria.com/clase/coaching-de-crecimiento-personal/
LOCATION:Jasmin
CATEGORIES:Talleres
ATTACH;FMTTYPE=image/jpeg:https://anandayogavitoria.com/wp-content/uploads/2025/08/Eventos-Ananda-.jpg
END:VEVENT
END:VCALENDAR